BEGIN:VCALENDAR
VERSION:2.0
PRODID:icalendar-ruby
CALSCALE:GREGORIAN
BEGIN:VEVENT
DTSTAMP:20260424T104101Z
UID:1a8a50d9-1263-4dab-badc-793195329fed
DTSTART;VALUE=DATE:20210128
DESCRIPTION:Property ID# 499711\, Locatoin: Ray White Johnsonville\, 20 Moo
 refield Road\, Time: 12:00PM
SUMMARY:Auction for 
END:VEVENT
END:VCALENDAR
