BEGIN:VCALENDAR
VERSION:2.0
PRODID:icalendar-ruby
CALSCALE:GREGORIAN
BEGIN:VEVENT
DTSTAMP:20210122T032739Z
UID:09aad887-6a2e-4d8c-9b6d-c9fc560a2d97
DTSTART;VALUE=DATE:20210128
DESCRIPTION:Property ID# 499635\, Time: 1:00PM
SUMMARY:Auction for 6J/164 The Terrace
END:VEVENT
END:VCALENDAR
