BEGIN:VCALENDAR
VERSION:2.0
PRODID:icalendar-ruby
CALSCALE:GREGORIAN
BEGIN:VEVENT
DTSTAMP:20210122T032731Z
UID:d087b05e-96aa-46f3-802e-db7672f6e7a0
DTSTART;VALUE=DATE:20210204
DESCRIPTION:Property ID# 498714\, Locatoin: Tenders to be submitted by emai
 l or directly to our office at Level 6\, 36 Brandon St.\, Time: 12:00PM
SUMMARY:Auction for 4 Durham Crescent
END:VEVENT
END:VCALENDAR
