BEGIN:VCALENDAR
VERSION:2.0
PRODID:icalendar-ruby
CALSCALE:GREGORIAN
BEGIN:VEVENT
DTSTAMP:20260424T104111Z
UID:28489045-696e-405b-84f5-30a30bd6668d
DTSTART;VALUE=DATE:20201008
DESCRIPTION:Property ID# 490891\, Time: 1:00PM
SUMMARY:Auction for 
END:VEVENT
END:VCALENDAR
