BEGIN:VCALENDAR
VERSION:2.0
PRODID:icalendar-ruby
CALSCALE:GREGORIAN
BEGIN:VEVENT
DTSTAMP:20260424T114101Z
UID:2e7e1329-7736-41dc-9895-dc6ba13aeb00
DTSTART;VALUE=DATE:20200716
DESCRIPTION:Property ID# 483648\, Locatoin: Lowe & Co Realty\, 8 Kent Terra
 ce\, Wellington \, Time: 1:00PM
SUMMARY:Auction for 
END:VEVENT
END:VCALENDAR
