BEGIN:VCALENDAR
VERSION:2.0
PRODID:icalendar-ruby
CALSCALE:GREGORIAN
BEGIN:VEVENT
DTSTAMP:20210122T034004Z
UID:3d859917-a14e-4df8-8251-1df82d23d7d9
DTSTART;VALUE=DATE:20200305
DESCRIPTION:Property ID# 472876\, Time: 3:30PM
SUMMARY:Auction for 
END:VEVENT
END:VCALENDAR
