BEGIN:VCALENDAR
VERSION:2.0
PRODID:icalendar-ruby
CALSCALE:GREGORIAN
BEGIN:VEVENT
DTSTAMP:20260424T122901Z
UID:38e99dd2-d485-4d8b-afb6-0e9171b5a961
DTSTART;VALUE=DATE:20200220
DESCRIPTION:Property ID# 471631\, Locatoin: Lowe & Co Realty\, 8 Kent Terra
 ce\, Wellington\, Time: 2:00PM
SUMMARY:Auction for 
END:VEVENT
END:VCALENDAR
