BEGIN:VCALENDAR
VERSION:2.0
PRODID:icalendar-ruby
CALSCALE:GREGORIAN
BEGIN:VEVENT
DTSTAMP:20210122T034005Z
UID:38cba6d0-49eb-4a67-874b-43302c58ac49
DTSTART;VALUE=DATE:20191204
DESCRIPTION:Property ID# 467217\, Locatoin: Ray White\, 1st Floor\,  30 Bay
  Road\, Kilbirnie\, Time: 3:00PM
SUMMARY:Auction for 
END:VEVENT
END:VCALENDAR
