BEGIN:VCALENDAR
VERSION:2.0
PRODID:icalendar-ruby
CALSCALE:GREGORIAN
BEGIN:VEVENT
DTSTAMP:20260424T104103Z
UID:3c6df737-6100-4a51-b9e0-498f347a2206
DTSTART;VALUE=DATE:20191129
DESCRIPTION:Property ID# 466380\, Locatoin: Lowe & Co Realty\, 8 Kent Terra
 ce\, Wellington\, Time: 12:00PM
SUMMARY:Auction for 
END:VEVENT
END:VCALENDAR
