BEGIN:VCALENDAR
VERSION:2.0
PRODID:icalendar-ruby
CALSCALE:GREGORIAN
BEGIN:VEVENT
DTSTAMP:20210122T034008Z
UID:0c10fdfd-fbd3-4dc6-8121-3a4a0158c9a9
DTSTART;VALUE=DATE:20191106
DESCRIPTION:Property ID# 463612\, Locatoin: Ray White\, 1st Floor\,  30 Bay
  Road\, Kilbirnie\, Time: 2:00PM
SUMMARY:Auction for 
END:VEVENT
END:VCALENDAR
