BEGIN:VCALENDAR
VERSION:2.0
PRODID:icalendar-ruby
CALSCALE:GREGORIAN
BEGIN:VEVENT
DTSTAMP:20210122T034013Z
UID:094b29cb-9165-415e-9f3e-674e56c2c845
DTSTART;VALUE=DATE:20191023
DESCRIPTION:Property ID# 462903\, Time: 1:00PM
SUMMARY:Auction for 
END:VEVENT
END:VCALENDAR
