BEGIN:VCALENDAR
VERSION:2.0
PRODID:icalendar-ruby
CALSCALE:GREGORIAN
BEGIN:VEVENT
DTSTAMP:20260424T115001Z
UID:6f896cb2-106c-4cfb-a1a4-588729eb9da7
DTSTART;VALUE=DATE:20191108
DESCRIPTION:Property ID# 459601\, Locatoin: Harcourts Team Wellington Ltd\,
  Level 1\, 54-56 Cambridge Terrace\, Te Aro\, Wellington\, Time: 12:00PM
SUMMARY:Auction for 
END:VEVENT
END:VCALENDAR
