BEGIN:VCALENDAR
VERSION:2.0
PRODID:icalendar-ruby
CALSCALE:GREGORIAN
BEGIN:VEVENT
DTSTAMP:20210122T034010Z
UID:b35f81be-3d02-425e-8aef-ce1193407032
DTSTART;VALUE=DATE:20190808
DESCRIPTION:Property ID# 458243\, Locatoin: Ray White\, 1st Floor\,  30 Bay
  Road\, Kilbirnie\, Time: 2:00PM
SUMMARY:Auction for 
END:VEVENT
END:VCALENDAR
